BEGIN:VCALENDAR
VERSION:2.0
PRODID:-//Customs Brokers & International Freight Forwarders Association of
  Washington State//Silkstart Technology Inc.//
BEGIN:VTIMEZONE
TZID:US/Pacific
BEGIN:DAYLIGHT
DTSTART;VALUE=DATE-TIME:20260308T020000
TZNAME:PDT
TZOFFSETFROM:-0800
TZOFFSETTO:-0700
END:DAYLIGHT
BEGIN:STANDARD
DTSTART;VALUE=DATE-TIME:20261101T020000
TZNAME:PST
TZOFFSETFROM:-0700
TZOFFSETTO:-0800
END:STANDARD
END:VTIMEZONE
BEGIN:VEVENT
SUMMARY:CBIFFAWS May Meeting
DTSTART;TZID=US/Pacific;VALUE=DATE-TIME:20260506T113000
DTEND;TZID=US/Pacific;VALUE=DATE-TIME:20260506T133000
DTSTAMP;VALUE=DATE-TIME:20260420T233058
UID:69e6b73251ea1f05dad11e63
DESCRIPTION:https://cbiffaws.org:443/events/cbiffaws-may-meeting
LOCATION:3600 Port of Tacoma Rd\, Tacoma\, WA 98424\, USA
PRIORITY:5
URL:https://cbiffaws.org:443/events/cbiffaws-may-meeting
END:VEVENT
END:VCALENDAR
